BEGIN:VCALENDAR
VERSION:2.0
PRODID:-//TILTI - ECPv6.15.20//NONSGML v1.0//EN
CALSCALE:GREGORIAN
METHOD:PUBLISH
X-ORIGINAL-URL:https://tiltipk.com
X-WR-CALDESC:Events for TILTI
REFRESH-INTERVAL;VALUE=DURATION:PT1H
X-Robots-Tag:noindex
X-PUBLISHED-TTL:PT1H
BEGIN:VTIMEZONE
TZID:Asia/Karachi
BEGIN:STANDARD
TZOFFSETFROM:+0500
TZOFFSETTO:+0500
TZNAME:PKT
DTSTART:20200101T000000
END:STANDARD
END:VTIMEZONE
BEGIN:VEVENT
DTSTART;TZID=Asia/Karachi:20211109T170000
DTEND;TZID=Asia/Karachi:20211209T190000
DTSTAMP:20260425T160921
CREATED:20211103T110112Z
LAST-MODIFIED:20211103T110112Z
UID:1390-1636477200-1639076400@tiltipk.com
SUMMARY:Becoming a Person of Influence
DESCRIPTION:Whatever your vocation or aspiration\, you can increase your impact on others by becoming a person of influence. Learn simple\, insightful ways to interact more positively with others\, and watch your personal and organizational success go off the charts.
URL:https://tiltipk.com/event/becoming-a-person-of-influence/
LOCATION:TILTI Campus\, Office 15-21\, Pakland City Center\, I-8 Markaz\, Islamabad\, Capital Territory\, 44000\, Pakistan
ATTACH;FMTTYPE=image/png:https://tiltipk.com/wp-content/uploads/2021/11/Book-Review-Person-of-Influence-HERO-1.png
ORGANIZER;CN="TILTI and Bahria University":MAILTO:contact@tiltipk.com
END:VEVENT
BEGIN:VEVENT
DTSTART;TZID=Asia/Karachi:20211108T080000
DTEND;TZID=Asia/Karachi:20211215T170000
DTSTAMP:20260425T160921
CREATED:20211103T104829Z
LAST-MODIFIED:20211103T104922Z
UID:1388-1636358400-1639587600@tiltipk.com
SUMMARY:How Successful People Think
DESCRIPTION:To do well in life\, we must first think well. But can we actually learn new mental habits? Thinking for a Change answers that with a resounding “yes” — and shows how changing your thinking can indeed change your life. Click here to know more about this Course.
URL:https://tiltipk.com/event/how-successful-people-think/
LOCATION:TILTI Campus\, Office 15-21\, Pakland City Center\, I-8 Markaz\, Islamabad\, Capital Territory\, 44000\, Pakistan
ATTACH;FMTTYPE=image/jpeg:https://tiltipk.com/wp-content/uploads/2021/06/how-successful-people-think.jpg
ORGANIZER;CN="TILTI and Bahria University":MAILTO:contact@tiltipk.com
END:VEVENT
BEGIN:VEVENT
DTSTART;TZID=Asia/Karachi:20211106T150000
DTEND;TZID=Asia/Karachi:20211106T180000
DTSTAMP:20260425T160921
CREATED:20211103T083237Z
LAST-MODIFIED:20211103T083237Z
UID:1377-1636210800-1636221600@tiltipk.com
SUMMARY:Digital Marketing MasterClass
DESCRIPTION:Facebook Page Management and Optimization\nDos & Dont’s of Facebook and Instagram Marketing\nInstagram Marketing Strategies\nUsing Various Strategies to Increase Reach and Visibility
URL:https://tiltipk.com/event/digital-marketing-masterclass/
LOCATION:TILTI Campus\, Office 15-21\, Pakland City Center\, I-8 Markaz\, Islamabad\, Capital Territory\, 44000\, Pakistan
ATTACH;FMTTYPE=image/jpeg:https://tiltipk.com/wp-content/uploads/2021/11/Digital_Marketing_Tutorial.jpg
ORGANIZER;CN="TILTI and Bahria University":MAILTO:contact@tiltipk.com
END:VEVENT
BEGIN:VEVENT
DTSTART;TZID=Asia/Karachi:20211106T100000
DTEND;TZID=Asia/Karachi:20211106T120000
DTSTAMP:20260425T160921
CREATED:20211103T064215Z
LAST-MODIFIED:20211103T070549Z
UID:1365-1636192800-1636200000@tiltipk.com
SUMMARY:DISC Workshop
DESCRIPTION:What if you could tap into your greatest motivations and dramatically improve your relationships and accelerate your results? \nYour individual personality affects every aspect of your life. That’s why one of the best things you can do to grow yourself and others is to understand your personality and what naturally drives you.
URL:https://tiltipk.com/event/disc-workshop/
LOCATION:TILTI Campus\, Office 15-21\, Pakland City Center\, I-8 Markaz\, Islamabad\, Capital Territory\, 44000\, Pakistan
ATTACH;FMTTYPE=image/jpeg:https://tiltipk.com/wp-content/uploads/2021/06/disccccc.jpg
ORGANIZER;CN="TILTI and Bahria University":MAILTO:contact@tiltipk.com
END:VEVENT
END:VCALENDAR